BEGIN:VCALENDAR
VERSION:2.0
PRODID:-//Commune de Jonchery-Sur-Vesle - ECPv6.13.2.1//NONSGML v1.0//EN
CALSCALE:GREGORIAN
METHOD:PUBLISH
X-ORIGINAL-URL:https://joncherysurvesle.com
X-WR-CALDESC:Évènements pour Commune de Jonchery-Sur-Vesle
REFRESH-INTERVAL;VALUE=DURATION:PT1H
X-Robots-Tag:noindex
X-PUBLISHED-TTL:PT1H
BEGIN:VTIMEZONE
TZID:Europe/Paris
BEGIN:DAYLIGHT
TZOFFSETFROM:+0100
TZOFFSETTO:+0200
TZNAME:CEST
DTSTART:20250330T010000
END:DAYLIGHT
BEGIN:STANDARD
TZOFFSETFROM:+0200
TZOFFSETTO:+0100
TZNAME:CET
DTSTART:20251026T010000
END:STANDARD
END:VTIMEZONE
BEGIN:VEVENT
DTSTART;TZID=Europe/Paris:20250523T090000
DTEND;TZID=Europe/Paris:20250523T120000
DTSTAMP:20260423T164225
CREATED:20250205T092146Z
LAST-MODIFIED:20250514T143918Z
UID:376-1747990800-1748001600@joncherysurvesle.com
SUMMARY:Fleurissement
DESCRIPTION:
URL:https://joncherysurvesle.com/event/fleurissement/
END:VEVENT
BEGIN:VEVENT
DTSTART;TZID=Europe/Paris:20250523T180000
DTEND;TZID=Europe/Paris:20250523T230000
DTSTAMP:20260423T164225
CREATED:20250205T092135Z
LAST-MODIFIED:20250514T143908Z
UID:375-1748023200-1748041200@joncherysurvesle.com
SUMMARY:Marché nocturne
DESCRIPTION:
URL:https://joncherysurvesle.com/event/marche-nocturne/
END:VEVENT
END:VCALENDAR