BEGIN:VCALENDAR
VERSION:2.0
PRODID:-//Commune de Jonchery-Sur-Vesle - ECPv6.13.2.1//NONSGML v1.0//EN
CALSCALE:GREGORIAN
METHOD:PUBLISH
X-ORIGINAL-URL:https://joncherysurvesle.com
X-WR-CALDESC:Évènements pour Commune de Jonchery-Sur-Vesle
REFRESH-INTERVAL;VALUE=DURATION:PT1H
X-Robots-Tag:noindex
X-PUBLISHED-TTL:PT1H
BEGIN:VTIMEZONE
TZID:Europe/Paris
BEGIN:DAYLIGHT
TZOFFSETFROM:+0100
TZOFFSETTO:+0200
TZNAME:CEST
DTSTART:20250330T010000
END:DAYLIGHT
BEGIN:STANDARD
TZOFFSETFROM:+0200
TZOFFSETTO:+0100
TZNAME:CET
DTSTART:20251026T010000
END:STANDARD
END:VTIMEZONE
BEGIN:VEVENT
DTSTART;TZID=Europe/Paris:20250708T140000
DTEND;TZID=Europe/Paris:20250708T160000
DTSTAMP:20260423T053824
CREATED:20250703T172249Z
LAST-MODIFIED:20250703T172347Z
UID:2849-1751983200-1751990400@joncherysurvesle.com
SUMMARY:Atelier de dessin avec David GARCIA
DESCRIPTION:Le prochain atelier dessin du talentueux David Garcia aura lieu mardi 8 juillet de 14h à 16h. Il reste encore quelques places !\n[Pour tous dès 7 ans]\n\n\nInscrivez-vous ici –>\nhttps://forms.gle/vvkQVdhp6mbixe5C9\n 03 26 48 52 71\n mediatheque.joncherysurvesle@orange.fr\n\n\n\nÀ bientôt à la médiathèque !
URL:https://joncherysurvesle.com/event/atelier-de-dessin-avec-david-garcia/
ORGANIZER;CN="M%C3%A9diath%C3%A8que":MAILTO:mediatheque.joncherysurvesle@orange.fr
END:VEVENT
END:VCALENDAR