BEGIN:VCALENDAR
VERSION:2.0
PRODID:-//Commune de Jonchery-Sur-Vesle - ECPv6.13.2.1//NONSGML v1.0//EN
CALSCALE:GREGORIAN
METHOD:PUBLISH
X-WR-CALNAME:Commune de Jonchery-Sur-Vesle
X-ORIGINAL-URL:https://joncherysurvesle.com
X-WR-CALDESC:Évènements pour Commune de Jonchery-Sur-Vesle
REFRESH-INTERVAL;VALUE=DURATION:PT1H
X-Robots-Tag:noindex
X-PUBLISHED-TTL:PT1H
BEGIN:VTIMEZONE
TZID:Europe/Paris
BEGIN:DAYLIGHT
TZOFFSETFROM:+0100
TZOFFSETTO:+0200
TZNAME:CEST
DTSTART:20250330T010000
END:DAYLIGHT
BEGIN:STANDARD
TZOFFSETFROM:+0200
TZOFFSETTO:+0100
TZNAME:CET
DTSTART:20251026T010000
END:STANDARD
END:VTIMEZONE
BEGIN:VEVENT
DTSTART;TZID=Europe/Paris:20250711T140000
DTEND;TZID=Europe/Paris:20250711T170000
DTSTAMP:20260423T003323
CREATED:20250702T195914Z
LAST-MODIFIED:20250703T165648Z
UID:2798-1752242400-1752253200@joncherysurvesle.com
SUMMARY:Lectures et atelier découpage/collage
DESCRIPTION:Dans le parc municipal : lectures de 14h à 17h et atelier découpage/collage de 15h à 16h. \nDe 5 à 10 ans. Sur inscription. \n\nPour l’atelier « Bêtes à part » vendredi 11 juillet –> https://forms.gle/jAdtfJDTssk1ZiYLA\n\n…Accès libre pour les lectures dans le parc ! Pas moins de 5 bénévoles seront ravies de lire avec vos enfants\, petits ou grands.\n\n\n 03 26 48 52 71\n mediatheque.joncherysurvesle@orange.fr
URL:https://joncherysurvesle.com/event/lectures-et-atelier-decoupage-collage/
LOCATION:Parc municipal\, Place Sarrette\, Jonchery/Vesle\, 51140\, France
ORGANIZER;CN="M%C3%A9diath%C3%A8que":MAILTO:mediatheque.joncherysurvesle@orange.fr
END:VEVENT
END:VCALENDAR