BEGIN:VCALENDAR
VERSION:2.0
PRODID:-//Commune de Jonchery-Sur-Vesle - ECPv6.13.2.1//NONSGML v1.0//EN
CALSCALE:GREGORIAN
METHOD:PUBLISH
X-WR-CALNAME:Commune de Jonchery-Sur-Vesle
X-ORIGINAL-URL:https://joncherysurvesle.com
X-WR-CALDESC:Évènements pour Commune de Jonchery-Sur-Vesle
REFRESH-INTERVAL;VALUE=DURATION:PT1H
X-Robots-Tag:noindex
X-PUBLISHED-TTL:PT1H
BEGIN:VTIMEZONE
TZID:Europe/Paris
BEGIN:DAYLIGHT
TZOFFSETFROM:+0100
TZOFFSETTO:+0200
TZNAME:CEST
DTSTART:20250330T010000
END:DAYLIGHT
BEGIN:STANDARD
TZOFFSETFROM:+0200
TZOFFSETTO:+0100
TZNAME:CET
DTSTART:20251026T010000
END:STANDARD
END:VTIMEZONE
BEGIN:VEVENT
DTSTART;TZID=Europe/Paris:20250712T103000
DTEND;TZID=Europe/Paris:20250712T120000
DTSTAMP:20260422T230706
CREATED:20250703T171408Z
LAST-MODIFIED:20250703T171408Z
UID:2846-1752316200-1752321600@joncherysurvesle.com
SUMMARY:Escape Game "Mémoires de la forêt"
DESCRIPTION:Dès 8 ans\, sur inscription. Gratuit. \n\nEscape Game samedi 12 juillet –> https://forms.gle/CqsCcDJyGjEEqQ7o8\n\n\n\n 03 26 48 52 71\n mediatheque.joncherysurvesle@orange.fr
URL:https://joncherysurvesle.com/event/escape-game-memoires-de-la-foret/
ORGANIZER;CN="M%C3%A9diath%C3%A8que":MAILTO:mediatheque.joncherysurvesle@orange.fr
END:VEVENT
BEGIN:VEVENT
DTSTART;TZID=Europe/Paris:20250712T170000
DTEND;TZID=Europe/Paris:20250712T230000
DTSTAMP:20260422T230706
CREATED:20250205T091950Z
LAST-MODIFIED:20250604T145908Z
UID:368-1752339600-1752361200@joncherysurvesle.com
SUMMARY:Concours de pétanque en semi nocturne
DESCRIPTION:Samedi 12 juillet 2025\, concours en doublettes formées\, 4 parties. \nOuvert à tous. \nOrganisé par le club La Pétanque Joncavidulienne. \nSemi nocturne. \nInscriptions au concours de 16h00 à 17h00. \nBuvette.
URL:https://joncherysurvesle.com/event/concours-de-boules-semi-nocturne/
ORGANIZER;CN="P%C3%A9tanque Joncavidulienne":MAILTO:email-organisateur@cs.com
END:VEVENT
END:VCALENDAR